BEGIN:VCALENDAR
VERSION:2.0
PRODID:-//Häbbie Hibbos - ECPv6.15.20//NONSGML v1.0//EN
CALSCALE:GREGORIAN
METHOD:PUBLISH
X-WR-CALNAME:Häbbie Hibbos
X-ORIGINAL-URL:https://www.haebbie-hibbos.de
X-WR-CALDESC:Veranstaltungen für Häbbie Hibbos
REFRESH-INTERVAL;VALUE=DURATION:PT1H
X-Robots-Tag:noindex
X-PUBLISHED-TTL:PT1H
BEGIN:VTIMEZONE
TZID:Europe/Berlin
BEGIN:DAYLIGHT
TZOFFSETFROM:+0100
TZOFFSETTO:+0200
TZNAME:CEST
DTSTART:20230326T010000
END:DAYLIGHT
BEGIN:STANDARD
TZOFFSETFROM:+0200
TZOFFSETTO:+0100
TZNAME:CET
DTSTART:20231029T010000
END:STANDARD
BEGIN:DAYLIGHT
TZOFFSETFROM:+0100
TZOFFSETTO:+0200
TZNAME:CEST
DTSTART:20240331T010000
END:DAYLIGHT
BEGIN:STANDARD
TZOFFSETFROM:+0200
TZOFFSETTO:+0100
TZNAME:CET
DTSTART:20241027T010000
END:STANDARD
BEGIN:DAYLIGHT
TZOFFSETFROM:+0100
TZOFFSETTO:+0200
TZNAME:CEST
DTSTART:20250330T010000
END:DAYLIGHT
BEGIN:STANDARD
TZOFFSETFROM:+0200
TZOFFSETTO:+0100
TZNAME:CET
DTSTART:20251026T010000
END:STANDARD
END:VTIMEZONE
BEGIN:VEVENT
DTSTART;TZID=Europe/Berlin:20241201T180000
DTEND;TZID=Europe/Berlin:20241201T200000
DTSTAMP:20260421T130917
CREATED:20241129T160408Z
LAST-MODIFIED:20241129T160408Z
UID:3340-1733076000-1733083200@www.haebbie-hibbos.de
SUMMARY:Clubabend mit Chris Fleck
DESCRIPTION:
URL:https://www.haebbie-hibbos.de/event/clubabend-mit-chris-fleck/
END:VEVENT
BEGIN:VEVENT
DTSTART;TZID=Europe/Berlin:20241215T180000
DTEND;TZID=Europe/Berlin:20241215T200000
DTSTAMP:20260421T130917
CREATED:20241129T160448Z
LAST-MODIFIED:20241129T160448Z
UID:3342-1734285600-1734292800@www.haebbie-hibbos.de
SUMMARY:Clubabend mit Marcus Runft
DESCRIPTION:
URL:https://www.haebbie-hibbos.de/event/clubabend-mit-marcus-runft-74/
END:VEVENT
END:VCALENDAR