BEGIN:VCALENDAR
VERSION:2.0
PRODID:-//Häbbie Hibbos - ECPv6.15.20//NONSGML v1.0//EN
CALSCALE:GREGORIAN
METHOD:PUBLISH
X-WR-CALNAME:Häbbie Hibbos
X-ORIGINAL-URL:https://www.haebbie-hibbos.de
X-WR-CALDESC:Veranstaltungen für Häbbie Hibbos
REFRESH-INTERVAL;VALUE=DURATION:PT1H
X-Robots-Tag:noindex
X-PUBLISHED-TTL:PT1H
BEGIN:VTIMEZONE
TZID:Europe/Berlin
BEGIN:DAYLIGHT
TZOFFSETFROM:+0100
TZOFFSETTO:+0200
TZNAME:CEST
DTSTART:20230326T010000
END:DAYLIGHT
BEGIN:STANDARD
TZOFFSETFROM:+0200
TZOFFSETTO:+0100
TZNAME:CET
DTSTART:20231029T010000
END:STANDARD
BEGIN:DAYLIGHT
TZOFFSETFROM:+0100
TZOFFSETTO:+0200
TZNAME:CEST
DTSTART:20240331T010000
END:DAYLIGHT
BEGIN:STANDARD
TZOFFSETFROM:+0200
TZOFFSETTO:+0100
TZNAME:CET
DTSTART:20241027T010000
END:STANDARD
BEGIN:DAYLIGHT
TZOFFSETFROM:+0100
TZOFFSETTO:+0200
TZNAME:CEST
DTSTART:20250330T010000
END:DAYLIGHT
BEGIN:STANDARD
TZOFFSETFROM:+0200
TZOFFSETTO:+0100
TZNAME:CET
DTSTART:20251026T010000
END:STANDARD
END:VTIMEZONE
BEGIN:VEVENT
DTSTART;TZID=Europe/Berlin:20240705T200000
DTEND;TZID=Europe/Berlin:20240705T220000
DTSTAMP:20260421T210954
CREATED:20240303T155828Z
LAST-MODIFIED:20240303T155828Z
UID:3119-1720209600-1720216800@www.haebbie-hibbos.de
SUMMARY:Clubabend mit Marcus Runft
DESCRIPTION:
URL:https://www.haebbie-hibbos.de/event/clubabend-mit-marcus-runft-71/
LOCATION:Kath. Gemeinde St. Lukas\, Schönbergstr. 23\, Kirchheim-Jesingen
END:VEVENT
BEGIN:VEVENT
DTSTART;TZID=Europe/Berlin:20240707T180000
DTEND;TZID=Europe/Berlin:20240707T200000
DTSTAMP:20260421T210954
CREATED:20240303T155909Z
LAST-MODIFIED:20240503T103249Z
UID:3121-1720375200-1720382400@www.haebbie-hibbos.de
SUMMARY:Classabend mit Marcus Runft
DESCRIPTION:
URL:https://www.haebbie-hibbos.de/event/clubabend-mit-marcus-runft-72/
LOCATION:Konrad-Widerholt-Halle\, Armbruststraße 30\, 73230 Kirchheim/Teck\, Deutschland
END:VEVENT
BEGIN:VEVENT
DTSTART;TZID=Europe/Berlin:20240714T170000
DTEND;TZID=Europe/Berlin:20240714T200000
DTSTAMP:20260421T210954
CREATED:20240303T155948Z
LAST-MODIFIED:20240711T184028Z
UID:3123-1720976400-1720987200@www.haebbie-hibbos.de
SUMMARY:GRADUATION
DESCRIPTION:Am 14. Juli findet die Graduation statt.\nGießnauhalle\, Seestraße 7\, 73230 Kirchheim (Teck) / Nabern
URL:https://www.haebbie-hibbos.de/event/clubabend-mit-marcus-runft-73/
LOCATION:Gießnauhalle Nabern\, Seestraße 7\, 73230 Kirchheim-Nabern\, 73230\, Deutschland
END:VEVENT
BEGIN:VEVENT
DTSTART;TZID=Europe/Berlin:20240719T200000
DTEND;TZID=Europe/Berlin:20240719T220000
DTSTAMP:20260421T210954
CREATED:20240303T160155Z
LAST-MODIFIED:20240303T160155Z
UID:3125-1721419200-1721426400@www.haebbie-hibbos.de
SUMMARY:Clubabend
DESCRIPTION:
URL:https://www.haebbie-hibbos.de/event/clubabend-2/
LOCATION:Kath. Gemeinde St. Lukas\, Schönbergstr. 23\, Kirchheim-Jesingen
END:VEVENT
BEGIN:VEVENT
DTSTART;TZID=Europe/Berlin:20240721T180000
DTEND;TZID=Europe/Berlin:20240721T200000
DTSTAMP:20260421T210954
CREATED:20240303T160252Z
LAST-MODIFIED:20240503T103309Z
UID:3127-1721584800-1721592000@www.haebbie-hibbos.de
SUMMARY:Classabend mit Christian Reiff
DESCRIPTION:
URL:https://www.haebbie-hibbos.de/event/clubabend-mit-christian-reiff-52/
LOCATION:Konrad-Widerholt-Halle\, Armbruststraße 30\, 73230 Kirchheim/Teck\, Deutschland
END:VEVENT
END:VCALENDAR