BEGIN:VCALENDAR
VERSION:2.0
PRODID:-//Häbbie Hibbos - ECPv6.15.20//NONSGML v1.0//EN
CALSCALE:GREGORIAN
METHOD:PUBLISH
X-WR-CALNAME:Häbbie Hibbos
X-ORIGINAL-URL:https://www.haebbie-hibbos.de
X-WR-CALDESC:Veranstaltungen für Häbbie Hibbos
REFRESH-INTERVAL;VALUE=DURATION:PT1H
X-Robots-Tag:noindex
X-PUBLISHED-TTL:PT1H
BEGIN:VTIMEZONE
TZID:Europe/Berlin
BEGIN:DAYLIGHT
TZOFFSETFROM:+0100
TZOFFSETTO:+0200
TZNAME:CEST
DTSTART:20230326T010000
END:DAYLIGHT
BEGIN:STANDARD
TZOFFSETFROM:+0200
TZOFFSETTO:+0100
TZNAME:CET
DTSTART:20231029T010000
END:STANDARD
BEGIN:DAYLIGHT
TZOFFSETFROM:+0100
TZOFFSETTO:+0200
TZNAME:CEST
DTSTART:20240331T010000
END:DAYLIGHT
BEGIN:STANDARD
TZOFFSETFROM:+0200
TZOFFSETTO:+0100
TZNAME:CET
DTSTART:20241027T010000
END:STANDARD
BEGIN:DAYLIGHT
TZOFFSETFROM:+0100
TZOFFSETTO:+0200
TZNAME:CEST
DTSTART:20250330T010000
END:DAYLIGHT
BEGIN:STANDARD
TZOFFSETFROM:+0200
TZOFFSETTO:+0100
TZNAME:CET
DTSTART:20251026T010000
END:STANDARD
END:VTIMEZONE
BEGIN:VEVENT
DTSTART;TZID=Europe/Berlin:20240503T200000
DTEND;TZID=Europe/Berlin:20240503T220000
DTSTAMP:20260422T001902
CREATED:20240303T154429Z
LAST-MODIFIED:20240303T154429Z
UID:3097-1714766400-1714773600@www.haebbie-hibbos.de
SUMMARY:Clubabend mit Dave Preskitt
DESCRIPTION:
URL:https://www.haebbie-hibbos.de/event/clubabend-mit-dave-preskitt-8/
END:VEVENT
BEGIN:VEVENT
DTSTART;TZID=Europe/Berlin:20240505T180000
DTEND;TZID=Europe/Berlin:20240505T200000
DTSTAMP:20260422T001902
CREATED:20240303T154519Z
LAST-MODIFIED:20240303T190721Z
UID:3099-1714932000-1714939200@www.haebbie-hibbos.de
SUMMARY:Classabend mit Marcus Runft
DESCRIPTION:
URL:https://www.haebbie-hibbos.de/event/clubabend-mit-marcus-runft-66/
LOCATION:Konrad-Widerholt-Halle\, Armbruststraße 30\, 73230 Kirchheim/Teck\, Deutschland
END:VEVENT
BEGIN:VEVENT
DTSTART;TZID=Europe/Berlin:20240509T133000
DTEND;TZID=Europe/Berlin:20240509T233000
DTSTAMP:20260422T001902
CREATED:20231217T163429Z
LAST-MODIFIED:20231217T163431Z
UID:3044-1715261400-1715297400@www.haebbie-hibbos.de
SUMMARY:25. Hibbomania
DESCRIPTION:
URL:https://www.haebbie-hibbos.de/event/25-hibbomania/
LOCATION:Gießnauhalle Nabern\, Seestraße 7\, 73230 Kirchheim-Nabern\, 73230\, Deutschland
END:VEVENT
BEGIN:VEVENT
DTSTART;TZID=Europe/Berlin:20240512T180000
DTEND;TZID=Europe/Berlin:20240512T200000
DTSTAMP:20260422T001902
CREATED:20240303T154648Z
LAST-MODIFIED:20240303T154648Z
UID:3101-1715536800-1715544000@www.haebbie-hibbos.de
SUMMARY:Clubabend mit Christian Reiff
DESCRIPTION:
URL:https://www.haebbie-hibbos.de/event/clubabend-mit-christian-reiff-50/
LOCATION:Konrad-Widerholt-Halle\, Armbruststraße 30\, 73230 Kirchheim/Teck\, Deutschland
END:VEVENT
BEGIN:VEVENT
DTSTART;TZID=Europe/Berlin:20240517T200000
DTEND;TZID=Europe/Berlin:20240517T220000
DTSTAMP:20260422T001902
CREATED:20240303T154741Z
LAST-MODIFIED:20240303T154741Z
UID:3103-1715976000-1715983200@www.haebbie-hibbos.de
SUMMARY:Clubabend mit Uli Schingen
DESCRIPTION:
URL:https://www.haebbie-hibbos.de/event/clubabend-mit-uli-schingen-6/
LOCATION:Kath. Gemeinde St. Lukas\, Schönbergstr. 23\, Kirchheim-Jesingen
END:VEVENT
END:VCALENDAR