BEGIN:VCALENDAR
VERSION:2.0
PRODID:-//Häbbie Hibbos - ECPv6.15.20//NONSGML v1.0//EN
CALSCALE:GREGORIAN
METHOD:PUBLISH
X-WR-CALNAME:Häbbie Hibbos
X-ORIGINAL-URL:https://www.haebbie-hibbos.de
X-WR-CALDESC:Veranstaltungen für Häbbie Hibbos
REFRESH-INTERVAL;VALUE=DURATION:PT1H
X-Robots-Tag:noindex
X-PUBLISHED-TTL:PT1H
BEGIN:VTIMEZONE
TZID:Europe/Berlin
BEGIN:DAYLIGHT
TZOFFSETFROM:+0100
TZOFFSETTO:+0200
TZNAME:CEST
DTSTART:20230326T010000
END:DAYLIGHT
BEGIN:STANDARD
TZOFFSETFROM:+0200
TZOFFSETTO:+0100
TZNAME:CET
DTSTART:20231029T010000
END:STANDARD
BEGIN:DAYLIGHT
TZOFFSETFROM:+0100
TZOFFSETTO:+0200
TZNAME:CEST
DTSTART:20240331T010000
END:DAYLIGHT
BEGIN:STANDARD
TZOFFSETFROM:+0200
TZOFFSETTO:+0100
TZNAME:CET
DTSTART:20241027T010000
END:STANDARD
BEGIN:DAYLIGHT
TZOFFSETFROM:+0100
TZOFFSETTO:+0200
TZNAME:CEST
DTSTART:20250330T010000
END:DAYLIGHT
BEGIN:STANDARD
TZOFFSETFROM:+0200
TZOFFSETTO:+0100
TZNAME:CET
DTSTART:20251026T010000
END:STANDARD
END:VTIMEZONE
BEGIN:VEVENT
DTSTART;TZID=Europe/Berlin:20240407T180000
DTEND;TZID=Europe/Berlin:20240407T200000
DTSTAMP:20260422T020111
CREATED:20240303T153518Z
LAST-MODIFIED:20240303T153518Z
UID:3083-1712512800-1712520000@www.haebbie-hibbos.de
SUMMARY:Clubabend mit Marcus Runft
DESCRIPTION:
URL:https://www.haebbie-hibbos.de/event/clubabend-mit-marcus-runft-64/
LOCATION:Konrad-Widerholt-Halle\, Armbruststraße 30\, 73230 Kirchheim/Teck\, Deutschland
END:VEVENT
BEGIN:VEVENT
DTSTART;TZID=Europe/Berlin:20240412T190000
DTEND;TZID=Europe/Berlin:20240412T220000
DTSTAMP:20260422T020111
CREATED:20240303T153837Z
LAST-MODIFIED:20240327T083701Z
UID:3085-1712948400-1712959200@www.haebbie-hibbos.de
SUMMARY:34. Birthday Party Teck Rovers mit Dave Preskitt (Clubabend)
DESCRIPTION:
URL:https://www.haebbie-hibbos.de/event/clubabend-mit-dave-preskitt-7/
LOCATION:Kath. Gemeindezentrum St. Nikolaus\, Alte Bissinger Str. 47\, Dettingen unter Teck\, 73265
END:VEVENT
BEGIN:VEVENT
DTSTART;TZID=Europe/Berlin:20240414T180000
DTEND;TZID=Europe/Berlin:20240414T200000
DTSTAMP:20260422T020111
CREATED:20240303T154021Z
LAST-MODIFIED:20240303T190547Z
UID:3089-1713117600-1713124800@www.haebbie-hibbos.de
SUMMARY:Classabend mit Christian Reiff
DESCRIPTION:
URL:https://www.haebbie-hibbos.de/event/clubabend-mit-christian-reiff-48/
LOCATION:Konrad-Widerholt-Halle\, Armbruststraße 30\, 73230 Kirchheim/Teck\, Deutschland
END:VEVENT
BEGIN:VEVENT
DTSTART;TZID=Europe/Berlin:20240421T180000
DTEND;TZID=Europe/Berlin:20240421T200000
DTSTAMP:20260422T020111
CREATED:20240303T154116Z
LAST-MODIFIED:20240303T154116Z
UID:3091-1713722400-1713729600@www.haebbie-hibbos.de
SUMMARY:Clubabend mit Marcus Runft
DESCRIPTION:
URL:https://www.haebbie-hibbos.de/event/clubabend-mit-marcus-runft-65/
LOCATION:Konrad-Widerholt-Halle\, Armbruststraße 30\, 73230 Kirchheim/Teck\, Deutschland
END:VEVENT
BEGIN:VEVENT
DTSTART;TZID=Europe/Berlin:20240428T180000
DTEND;TZID=Europe/Berlin:20240428T200000
DTSTAMP:20260422T020111
CREATED:20240303T154334Z
LAST-MODIFIED:20240303T190621Z
UID:3095-1714327200-1714334400@www.haebbie-hibbos.de
SUMMARY:Classabend mit Christian Reiff
DESCRIPTION:
URL:https://www.haebbie-hibbos.de/event/clubabend-mit-christian-reiff-49/
LOCATION:Konrad-Widerholt-Halle\, Armbruststraße 30\, 73230 Kirchheim/Teck\, Deutschland
END:VEVENT
END:VCALENDAR