BEGIN:VCALENDAR
VERSION:2.0
PRODID:-//Häbbie Hibbos - ECPv6.15.20//NONSGML v1.0//EN
CALSCALE:GREGORIAN
METHOD:PUBLISH
X-WR-CALNAME:Häbbie Hibbos
X-ORIGINAL-URL:https://www.haebbie-hibbos.de
X-WR-CALDESC:Veranstaltungen für Häbbie Hibbos
REFRESH-INTERVAL;VALUE=DURATION:PT1H
X-Robots-Tag:noindex
X-PUBLISHED-TTL:PT1H
BEGIN:VTIMEZONE
TZID:Europe/Berlin
BEGIN:DAYLIGHT
TZOFFSETFROM:+0100
TZOFFSETTO:+0200
TZNAME:CEST
DTSTART:20220327T010000
END:DAYLIGHT
BEGIN:STANDARD
TZOFFSETFROM:+0200
TZOFFSETTO:+0100
TZNAME:CET
DTSTART:20221030T010000
END:STANDARD
BEGIN:DAYLIGHT
TZOFFSETFROM:+0100
TZOFFSETTO:+0200
TZNAME:CEST
DTSTART:20230326T010000
END:DAYLIGHT
BEGIN:STANDARD
TZOFFSETFROM:+0200
TZOFFSETTO:+0100
TZNAME:CET
DTSTART:20231029T010000
END:STANDARD
BEGIN:DAYLIGHT
TZOFFSETFROM:+0100
TZOFFSETTO:+0200
TZNAME:CEST
DTSTART:20240331T010000
END:DAYLIGHT
BEGIN:STANDARD
TZOFFSETFROM:+0200
TZOFFSETTO:+0100
TZNAME:CET
DTSTART:20241027T010000
END:STANDARD
END:VTIMEZONE
BEGIN:VEVENT
DTSTART;TZID=Europe/Berlin:20231201T200000
DTEND;TZID=Europe/Berlin:20231201T220000
DTSTAMP:20260422T082641
CREATED:20230629T133339Z
LAST-MODIFIED:20230629T133339Z
UID:2772-1701460800-1701468000@www.haebbie-hibbos.de
SUMMARY:Clubabend mit Marcus Runft
DESCRIPTION:
URL:https://www.haebbie-hibbos.de/event/clubabend-mit-marcus-runft-59/
LOCATION:Kath. Gemeinde St. Lukas\, Schönbergstr. 23\, Kirchheim-Jesingen
END:VEVENT
BEGIN:VEVENT
DTSTART;TZID=Europe/Berlin:20231210T180000
DTEND;TZID=Europe/Berlin:20231210T200000
DTSTAMP:20260422T082641
CREATED:20230629T133635Z
LAST-MODIFIED:20231002T065054Z
UID:2778-1702231200-1702238400@www.haebbie-hibbos.de
SUMMARY:Weihnachtsfeier Hibbos (intern) mit Marcus Runft
DESCRIPTION:
URL:https://www.haebbie-hibbos.de/event/weihnachtsfeier-hibbos-intern-2/
LOCATION:Konrad-Widerholt-Halle\, Armbruststraße 30\, 73230 Kirchheim/Teck\, Deutschland
END:VEVENT
BEGIN:VEVENT
DTSTART;TZID=Europe/Berlin:20231215T190000
DTEND;TZID=Europe/Berlin:20231215T220000
DTSTAMP:20260422T082641
CREATED:20230629T133517Z
LAST-MODIFIED:20230629T133517Z
UID:2776-1702666800-1702677600@www.haebbie-hibbos.de
SUMMARY:Weihnachtsfeier Teck Rovers (intern)
DESCRIPTION:
URL:https://www.haebbie-hibbos.de/event/weihnachtsfeier-teck-rovers-intern/
LOCATION:Kath. Gemeinde St. Lukas\, Schönbergstr. 23\, Kirchheim-Jesingen
END:VEVENT
END:VCALENDAR