BEGIN:VCALENDAR
VERSION:2.0
PRODID:-//Häbbie Hibbos - ECPv6.15.20//NONSGML v1.0//EN
CALSCALE:GREGORIAN
METHOD:PUBLISH
X-WR-CALNAME:Häbbie Hibbos
X-ORIGINAL-URL:https://www.haebbie-hibbos.de
X-WR-CALDESC:Veranstaltungen für Häbbie Hibbos
REFRESH-INTERVAL;VALUE=DURATION:PT1H
X-Robots-Tag:noindex
X-PUBLISHED-TTL:PT1H
BEGIN:VTIMEZONE
TZID:Europe/Berlin
BEGIN:DAYLIGHT
TZOFFSETFROM:+0100
TZOFFSETTO:+0200
TZNAME:CEST
DTSTART:20220327T010000
END:DAYLIGHT
BEGIN:STANDARD
TZOFFSETFROM:+0200
TZOFFSETTO:+0100
TZNAME:CET
DTSTART:20221030T010000
END:STANDARD
BEGIN:DAYLIGHT
TZOFFSETFROM:+0100
TZOFFSETTO:+0200
TZNAME:CEST
DTSTART:20230326T010000
END:DAYLIGHT
BEGIN:STANDARD
TZOFFSETFROM:+0200
TZOFFSETTO:+0100
TZNAME:CET
DTSTART:20231029T010000
END:STANDARD
BEGIN:DAYLIGHT
TZOFFSETFROM:+0100
TZOFFSETTO:+0200
TZNAME:CEST
DTSTART:20240331T010000
END:DAYLIGHT
BEGIN:STANDARD
TZOFFSETFROM:+0200
TZOFFSETTO:+0100
TZNAME:CET
DTSTART:20241027T010000
END:STANDARD
END:VTIMEZONE
BEGIN:VEVENT
DTSTART;TZID=Europe/Berlin:20231001T180000
DTEND;TZID=Europe/Berlin:20231001T200000
DTSTAMP:20260422T113115
CREATED:20230629T131659Z
LAST-MODIFIED:20230629T131659Z
UID:2745-1696183200-1696190400@www.haebbie-hibbos.de
SUMMARY:1. Kursabend (Class)
DESCRIPTION:
URL:https://www.haebbie-hibbos.de/event/1-kursabend-class/
LOCATION:Konrad-Widerholt-Halle\, Armbruststraße 30\, 73230 Kirchheim/Teck\, Deutschland
END:VEVENT
BEGIN:VEVENT
DTSTART;TZID=Europe/Berlin:20231006T200000
DTEND;TZID=Europe/Berlin:20231006T220000
DTSTAMP:20260422T113115
CREATED:20230629T132130Z
LAST-MODIFIED:20230912T174921Z
UID:2755-1696622400-1696629600@www.haebbie-hibbos.de
SUMMARY:Clubabend mit Dave Preskitt
DESCRIPTION:
URL:https://www.haebbie-hibbos.de/event/clubabend-mit-uli-schingen-3/
LOCATION:Kath. Gemeinde St. Lukas\, Schönbergstr. 23\, Kirchheim-Jesingen
END:VEVENT
BEGIN:VEVENT
DTSTART;TZID=Europe/Berlin:20231008T180000
DTEND;TZID=Europe/Berlin:20231008T200000
DTSTAMP:20260422T113115
CREATED:20230629T131738Z
LAST-MODIFIED:20230629T131738Z
UID:2747-1696788000-1696795200@www.haebbie-hibbos.de
SUMMARY:2. Kursabend (Class)
DESCRIPTION:
URL:https://www.haebbie-hibbos.de/event/2-kursabend-class/
LOCATION:Konrad-Widerholt-Halle\, Armbruststraße 30\, 73230 Kirchheim/Teck\, Deutschland
END:VEVENT
BEGIN:VEVENT
DTSTART;TZID=Europe/Berlin:20231015T180000
DTEND;TZID=Europe/Berlin:20231015T200000
DTSTAMP:20260422T113115
CREATED:20230629T131848Z
LAST-MODIFIED:20231002T064758Z
UID:2749-1697392800-1697400000@www.haebbie-hibbos.de
SUMMARY:3. Kursabend (Class) und Clubabend mit Marcus Runft
DESCRIPTION:
URL:https://www.haebbie-hibbos.de/event/3-kursabend-class-und-clubabend/
LOCATION:Konrad-Widerholt-Halle\, Armbruststraße 30\, 73230 Kirchheim/Teck\, Deutschland
END:VEVENT
BEGIN:VEVENT
DTSTART;TZID=Europe/Berlin:20231020T200000
DTEND;TZID=Europe/Berlin:20231020T220000
DTSTAMP:20260422T113115
CREATED:20230629T132227Z
LAST-MODIFIED:20230629T132227Z
UID:2757-1697832000-1697839200@www.haebbie-hibbos.de
SUMMARY:Clubabend mit Dave Preskitt
DESCRIPTION:
URL:https://www.haebbie-hibbos.de/event/clubabend-mit-dave-preskitt-4/
LOCATION:Kath. Gemeinde St. Lukas\, Schönbergstr. 23\, Kirchheim-Jesingen
END:VEVENT
BEGIN:VEVENT
DTSTART;TZID=Europe/Berlin:20231022T180000
DTEND;TZID=Europe/Berlin:20231022T200000
DTSTAMP:20260422T113115
CREATED:20230629T132507Z
LAST-MODIFIED:20230629T132507Z
UID:2760-1697997600-1698004800@www.haebbie-hibbos.de
SUMMARY:4. Kursabend (Class)
DESCRIPTION:
URL:https://www.haebbie-hibbos.de/event/4-kursabend-class/
LOCATION:Konrad-Widerholt-Halle\, Armbruststraße 30\, 73230 Kirchheim/Teck\, Deutschland
END:VEVENT
BEGIN:VEVENT
DTSTART;TZID=Europe/Berlin:20231029T170000
DTEND;TZID=Europe/Berlin:20231029T200000
DTSTAMP:20260422T113115
CREATED:20230629T131926Z
LAST-MODIFIED:20231024T174552Z
UID:2751-1698598800-1698609600@www.haebbie-hibbos.de
SUMMARY:5. Kursabend (Class) und Clubabend - 5. Sonntag mit Christian Reiff
DESCRIPTION:Students Welcome (bis Figur 16: Ladies Chain)! \nAnschließend After-Party mit Potluck. Bitte Geschirr mitbringen!
URL:https://www.haebbie-hibbos.de/event/4-kursabend-class-und-clubabend/
END:VEVENT
END:VCALENDAR