BEGIN:VCALENDAR
VERSION:2.0
PRODID:-//Häbbie Hibbos - ECPv6.15.20//NONSGML v1.0//EN
CALSCALE:GREGORIAN
METHOD:PUBLISH
X-WR-CALNAME:Häbbie Hibbos
X-ORIGINAL-URL:https://www.haebbie-hibbos.de
X-WR-CALDESC:Veranstaltungen für Häbbie Hibbos
REFRESH-INTERVAL;VALUE=DURATION:PT1H
X-Robots-Tag:noindex
X-PUBLISHED-TTL:PT1H
BEGIN:VTIMEZONE
TZID:Europe/Berlin
BEGIN:DAYLIGHT
TZOFFSETFROM:+0100
TZOFFSETTO:+0200
TZNAME:CEST
DTSTART:20220327T010000
END:DAYLIGHT
BEGIN:STANDARD
TZOFFSETFROM:+0200
TZOFFSETTO:+0100
TZNAME:CET
DTSTART:20221030T010000
END:STANDARD
BEGIN:DAYLIGHT
TZOFFSETFROM:+0100
TZOFFSETTO:+0200
TZNAME:CEST
DTSTART:20230326T010000
END:DAYLIGHT
BEGIN:STANDARD
TZOFFSETFROM:+0200
TZOFFSETTO:+0100
TZNAME:CET
DTSTART:20231029T010000
END:STANDARD
BEGIN:DAYLIGHT
TZOFFSETFROM:+0100
TZOFFSETTO:+0200
TZNAME:CEST
DTSTART:20240331T010000
END:DAYLIGHT
BEGIN:STANDARD
TZOFFSETFROM:+0200
TZOFFSETTO:+0100
TZNAME:CET
DTSTART:20241027T010000
END:STANDARD
END:VTIMEZONE
BEGIN:VEVENT
DTSTART;TZID=Europe/Berlin:20230910T180000
DTEND;TZID=Europe/Berlin:20230910T200000
DTSTAMP:20260422T132504
CREATED:20230629T125439Z
LAST-MODIFIED:20230815T090343Z
UID:2734-1694368800-1694376000@www.haebbie-hibbos.de
SUMMARY:Clubabend mit Christian Reiff
DESCRIPTION:
URL:https://www.haebbie-hibbos.de/event/open-house-mit-christian-reiff/
LOCATION:Konrad-Widerholt-Halle\, Armbruststraße 30\, 73230 Kirchheim/Teck\, Deutschland
END:VEVENT
BEGIN:VEVENT
DTSTART;TZID=Europe/Berlin:20230915T200000
DTEND;TZID=Europe/Berlin:20230915T220000
DTSTAMP:20260422T132504
CREATED:20230629T125819Z
LAST-MODIFIED:20230912T174815Z
UID:2739-1694808000-1694815200@www.haebbie-hibbos.de
SUMMARY:Clubabend mit Uli Schingen
DESCRIPTION:
URL:https://www.haebbie-hibbos.de/event/clubabend-mit-dave-preskitt-3/
LOCATION:Kath. Gemeinde St. Lukas\, Schönbergstr. 23\, Kirchheim-Jesingen
END:VEVENT
BEGIN:VEVENT
DTSTART;TZID=Europe/Berlin:20230917T180000
DTEND;TZID=Europe/Berlin:20230917T200000
DTSTAMP:20260422T132504
CREATED:20230815T090450Z
LAST-MODIFIED:20230914T120857Z
UID:2783-1694973600-1694980800@www.haebbie-hibbos.de
SUMMARY:Open House - Schnupperabend für alle Interessierten
DESCRIPTION:
URL:https://www.haebbie-hibbos.de/event/open-house-mit-marcus-runft-3/
LOCATION:Konrad-Widerholt-Halle\, Armbruststraße 30\, 73230 Kirchheim/Teck\, Deutschland
END:VEVENT
BEGIN:VEVENT
DTSTART;TZID=Europe/Berlin:20230924T170000
DTEND;TZID=Europe/Berlin:20230924T200000
DTSTAMP:20260422T132504
CREATED:20230629T125605Z
LAST-MODIFIED:20230914T120830Z
UID:2737-1695574800-1695585600@www.haebbie-hibbos.de
SUMMARY:Open House - Schnupperabend für alle Interessierten
DESCRIPTION:
URL:https://www.haebbie-hibbos.de/event/open-house-mit-marcus-runft-2/
LOCATION:Konrad-Widerholt-Halle\, Armbruststraße 30\, 73230 Kirchheim/Teck\, Deutschland
END:VEVENT
END:VCALENDAR