BEGIN:VCALENDAR
VERSION:2.0
PRODID:-//Häbbie Hibbos - ECPv6.15.20//NONSGML v1.0//EN
CALSCALE:GREGORIAN
METHOD:PUBLISH
X-ORIGINAL-URL:https://www.haebbie-hibbos.de
X-WR-CALDESC:Veranstaltungen für Häbbie Hibbos
REFRESH-INTERVAL;VALUE=DURATION:PT1H
X-Robots-Tag:noindex
X-PUBLISHED-TTL:PT1H
BEGIN:VTIMEZONE
TZID:Europe/Berlin
BEGIN:DAYLIGHT
TZOFFSETFROM:+0100
TZOFFSETTO:+0200
TZNAME:CEST
DTSTART:20220327T010000
END:DAYLIGHT
BEGIN:STANDARD
TZOFFSETFROM:+0200
TZOFFSETTO:+0100
TZNAME:CET
DTSTART:20221030T010000
END:STANDARD
BEGIN:DAYLIGHT
TZOFFSETFROM:+0100
TZOFFSETTO:+0200
TZNAME:CEST
DTSTART:20230326T010000
END:DAYLIGHT
BEGIN:STANDARD
TZOFFSETFROM:+0200
TZOFFSETTO:+0100
TZNAME:CET
DTSTART:20231029T010000
END:STANDARD
BEGIN:DAYLIGHT
TZOFFSETFROM:+0100
TZOFFSETTO:+0200
TZNAME:CEST
DTSTART:20240331T010000
END:DAYLIGHT
BEGIN:STANDARD
TZOFFSETFROM:+0200
TZOFFSETTO:+0100
TZNAME:CET
DTSTART:20241027T010000
END:STANDARD
END:VTIMEZONE
BEGIN:VEVENT
DTSTART;TZID=Europe/Berlin:20230108T180000
DTEND;TZID=Europe/Berlin:20230108T200000
DTSTAMP:20260423T033639
CREATED:20221219T104142Z
LAST-MODIFIED:20221219T104142Z
UID:2573-1673200800-1673208000@www.haebbie-hibbos.de
SUMMARY:Clubabend mit Marcus Runft
DESCRIPTION:
URL:https://www.haebbie-hibbos.de/event/clubabend-mit-marcus-runft-51/
LOCATION:Konrad-Widerholt-Halle\, Armbruststraße 30\, 73230 Kirchheim/Teck\, Deutschland
END:VEVENT
BEGIN:VEVENT
DTSTART;TZID=Europe/Berlin:20230115T180000
DTEND;TZID=Europe/Berlin:20230115T200000
DTSTAMP:20260423T033639
CREATED:20221219T104313Z
LAST-MODIFIED:20221219T104313Z
UID:2575-1673805600-1673812800@www.haebbie-hibbos.de
SUMMARY:Clubabend mit Christian Reiff
DESCRIPTION:
URL:https://www.haebbie-hibbos.de/event/clubabend-mit-christian-reiff-37/
LOCATION:Konrad-Widerholt-Halle\, Armbruststraße 30\, 73230 Kirchheim/Teck\, Deutschland
END:VEVENT
BEGIN:VEVENT
DTSTART;TZID=Europe/Berlin:20230120T200000
DTEND;TZID=Europe/Berlin:20230120T220000
DTSTAMP:20260423T033639
CREATED:20221219T104438Z
LAST-MODIFIED:20221219T104438Z
UID:2577-1674244800-1674252000@www.haebbie-hibbos.de
SUMMARY:Clubabend mit Marcus Runft
DESCRIPTION:
URL:https://www.haebbie-hibbos.de/event/clubabend-mit-marcus-runft-52/
LOCATION:Kath. Gemeinde St. Lukas\, Schönbergstr. 23\, Kirchheim-Jesingen
END:VEVENT
BEGIN:VEVENT
DTSTART;TZID=Europe/Berlin:20230129T170000
DTEND;TZID=Europe/Berlin:20230129T200000
DTSTAMP:20260423T033639
CREATED:20221219T104532Z
LAST-MODIFIED:20230123T191624Z
UID:2579-1675011600-1675022400@www.haebbie-hibbos.de
SUMMARY:5. Sonntag mit Marcus Runft
DESCRIPTION:
URL:https://www.haebbie-hibbos.de/event/clubabend-mit-marcus-runft-53/
LOCATION:Konrad-Widerholt-Halle\, Armbruststraße 30\, 73230 Kirchheim/Teck\, Deutschland
END:VEVENT
END:VCALENDAR