BEGIN:VCALENDAR
VERSION:2.0
PRODID:-//Häbbie Hibbos - ECPv6.15.20//NONSGML v1.0//EN
CALSCALE:GREGORIAN
METHOD:PUBLISH
X-WR-CALNAME:Häbbie Hibbos
X-ORIGINAL-URL:https://www.haebbie-hibbos.de
X-WR-CALDESC:Veranstaltungen für Häbbie Hibbos
REFRESH-INTERVAL;VALUE=DURATION:PT1H
X-Robots-Tag:noindex
X-PUBLISHED-TTL:PT1H
BEGIN:VTIMEZONE
TZID:Europe/Paris
BEGIN:DAYLIGHT
TZOFFSETFROM:+0100
TZOFFSETTO:+0200
TZNAME:CEST
DTSTART:20210328T010000
END:DAYLIGHT
BEGIN:STANDARD
TZOFFSETFROM:+0200
TZOFFSETTO:+0100
TZNAME:CET
DTSTART:20211031T010000
END:STANDARD
BEGIN:DAYLIGHT
TZOFFSETFROM:+0100
TZOFFSETTO:+0200
TZNAME:CEST
DTSTART:20220327T010000
END:DAYLIGHT
BEGIN:STANDARD
TZOFFSETFROM:+0200
TZOFFSETTO:+0100
TZNAME:CET
DTSTART:20221030T010000
END:STANDARD
BEGIN:DAYLIGHT
TZOFFSETFROM:+0100
TZOFFSETTO:+0200
TZNAME:CEST
DTSTART:20230326T010000
END:DAYLIGHT
BEGIN:STANDARD
TZOFFSETFROM:+0200
TZOFFSETTO:+0100
TZNAME:CET
DTSTART:20231029T010000
END:STANDARD
END:VTIMEZONE
BEGIN:VEVENT
DTSTART;TZID=Europe/Paris:20220306T180000
DTEND;TZID=Europe/Paris:20220306T200000
DTSTAMP:20260423T180754
CREATED:20220213T204349Z
LAST-MODIFIED:20220213T204349Z
UID:2229-1646589600-1646596800@www.haebbie-hibbos.de
SUMMARY:Clubabend mit Christian Reiff
DESCRIPTION:
URL:https://www.haebbie-hibbos.de/event/clubabend-mit-christian-reiff-26/
LOCATION:Konrad-Widerholt-Halle\, Armbruststraße 30\, 73230 Kirchheim/Teck\, Deutschland
END:VEVENT
BEGIN:VEVENT
DTSTART;TZID=Europe/Paris:20220313T180000
DTEND;TZID=Europe/Paris:20220313T200000
DTSTAMP:20260423T180754
CREATED:20220213T204906Z
LAST-MODIFIED:20220213T204906Z
UID:2239-1647194400-1647201600@www.haebbie-hibbos.de
SUMMARY:Clubabend mit Marcus Runft
DESCRIPTION:
URL:https://www.haebbie-hibbos.de/event/clubabend-mit-marcus-runft-33/
LOCATION:Konrad-Widerholt-Halle\, Armbruststraße 30\, 73230 Kirchheim/Teck\, Deutschland
END:VEVENT
BEGIN:VEVENT
DTSTART;TZID=Europe/Paris:20220320T180000
DTEND;TZID=Europe/Paris:20220320T200000
DTSTAMP:20260423T180754
CREATED:20220213T204434Z
LAST-MODIFIED:20220213T204434Z
UID:2231-1647799200-1647806400@www.haebbie-hibbos.de
SUMMARY:Clubabend mit Christian Reiff
DESCRIPTION:
URL:https://www.haebbie-hibbos.de/event/clubabend-mit-christian-reiff-27/
LOCATION:Konrad-Widerholt-Halle\, Armbruststraße 30\, 73230 Kirchheim/Teck\, Deutschland
END:VEVENT
BEGIN:VEVENT
DTSTART;TZID=Europe/Paris:20220327T180000
DTEND;TZID=Europe/Paris:20220327T200000
DTSTAMP:20260423T180754
CREATED:20220213T204957Z
LAST-MODIFIED:20220307T222949Z
UID:2241-1648404000-1648411200@www.haebbie-hibbos.de
SUMMARY:Open House mit Marcus Runft
DESCRIPTION:Besucht uns und lernt Modern Square Dance kennen . Die ersten Figuren selbst ausführen.
URL:https://www.haebbie-hibbos.de/event/clubabend-mit-marcus-runft-34/
LOCATION:Konrad-Widerholt-Halle\, Armbruststraße 30\, 73230 Kirchheim/Teck\, Deutschland
END:VEVENT
END:VCALENDAR