BEGIN:VCALENDAR
VERSION:2.0
PRODID:-//Häbbie Hibbos - ECPv6.15.20//NONSGML v1.0//EN
CALSCALE:GREGORIAN
METHOD:PUBLISH
X-WR-CALNAME:Häbbie Hibbos
X-ORIGINAL-URL:https://www.haebbie-hibbos.de
X-WR-CALDESC:Veranstaltungen für Häbbie Hibbos
REFRESH-INTERVAL;VALUE=DURATION:PT1H
X-Robots-Tag:noindex
X-PUBLISHED-TTL:PT1H
BEGIN:VTIMEZONE
TZID:Europe/Paris
BEGIN:DAYLIGHT
TZOFFSETFROM:+0100
TZOFFSETTO:+0200
TZNAME:CEST
DTSTART:20210328T010000
END:DAYLIGHT
BEGIN:STANDARD
TZOFFSETFROM:+0200
TZOFFSETTO:+0100
TZNAME:CET
DTSTART:20211031T010000
END:STANDARD
BEGIN:DAYLIGHT
TZOFFSETFROM:+0100
TZOFFSETTO:+0200
TZNAME:CEST
DTSTART:20220327T010000
END:DAYLIGHT
BEGIN:STANDARD
TZOFFSETFROM:+0200
TZOFFSETTO:+0100
TZNAME:CET
DTSTART:20221030T010000
END:STANDARD
BEGIN:DAYLIGHT
TZOFFSETFROM:+0100
TZOFFSETTO:+0200
TZNAME:CEST
DTSTART:20230326T010000
END:DAYLIGHT
BEGIN:STANDARD
TZOFFSETFROM:+0200
TZOFFSETTO:+0100
TZNAME:CET
DTSTART:20231029T010000
END:STANDARD
END:VTIMEZONE
BEGIN:VEVENT
DTSTART;TZID=Europe/Paris:20220109T180000
DTEND;TZID=Europe/Paris:20220109T200000
DTSTAMP:20260423T212219
CREATED:20211206T083129Z
LAST-MODIFIED:20211227T111919Z
UID:2177-1641751200-1641758400@www.haebbie-hibbos.de
SUMMARY:? Clubabend mit Christian Reiff
DESCRIPTION:
URL:https://www.haebbie-hibbos.de/event/clubabend-mit-christian-reiff-23/
LOCATION:Konrad-Widerholt-Halle\, Armbruststraße 30\, 73230 Kirchheim/Teck\, Deutschland
END:VEVENT
BEGIN:VEVENT
DTSTART;TZID=Europe/Paris:20220116T180000
DTEND;TZID=Europe/Paris:20220116T200000
DTSTAMP:20260423T212219
CREATED:20211206T083358Z
LAST-MODIFIED:20211227T111938Z
UID:2183-1642356000-1642363200@www.haebbie-hibbos.de
SUMMARY:? Clubabend mit Marcus Runft
DESCRIPTION:
URL:https://www.haebbie-hibbos.de/event/clubabend-mit-marcus-runft-29/
LOCATION:Konrad-Widerholt-Halle\, Armbruststraße 30\, 73230 Kirchheim/Teck\, Deutschland
END:VEVENT
BEGIN:VEVENT
DTSTART;TZID=Europe/Paris:20220123T180000
DTEND;TZID=Europe/Paris:20220123T200000
DTSTAMP:20260423T212219
CREATED:20211206T083450Z
LAST-MODIFIED:20211227T111959Z
UID:2185-1642960800-1642968000@www.haebbie-hibbos.de
SUMMARY:? Clubabend mit Marcus Runft
DESCRIPTION:
URL:https://www.haebbie-hibbos.de/event/clubabend-mit-marcus-runft-30/
LOCATION:Konrad-Widerholt-Halle\, Armbruststraße 30\, 73230 Kirchheim/Teck\, Deutschland
END:VEVENT
BEGIN:VEVENT
DTSTART;TZID=Europe/Paris:20220130T153000
DTEND;TZID=Europe/Paris:20220130T193000
DTSTAMP:20260423T212219
CREATED:20220121T102205Z
LAST-MODIFIED:20220131T095610Z
UID:2213-1643556600-1643571000@www.haebbie-hibbos.de
SUMMARY:Clubabend für das Ahrtal mit den Stoke-Boat-Promenaders
DESCRIPTION:Clubabend für das Ahrtal \nAuch sechs Monate nach der Flutkatastrophe ist das Ahrtal weit von der Normalität entfernt. Die Menschen dort brauchen weiter unsere Hilfe. Und auch den Helfern muss geholfen werden. \nDie Häbbie Hibbos und die Stoke-Boat Promenaders machen gemeinsam einen 5. Sonntag um Spenden für die Freiwillige Feuerwehr Ahrweiler zu sammeln. Auch die Feuerwehr hat viel verloren und braucht Hilfe\, um ihre wichtige Arbeit auch in Zukunft durchführen zu können. \nDen Helfern helfen\nKommt am 30.01.2022 ab 15:30 Uhr zum gemeinsamen Clubabend und helft mit euren Spenden denen\, die wir auch jetzt\, sechs Monate danach\, nicht vergessen wollen. \nArmbruststraße 30  73230 Kirchheim unter Teck \nCallen werden Wolfgang Rieger und Caller from the Floor. Getanzt wird MS und bei Bedarf auch mal Plus. \nBitte beachtet die gültigen Coronaregeln. Nach aktuellem Stand bedeutet das 2G+. Das kann sich aber je nach Pandemielage auch noch kurzfristig ändern.
URL:https://www.haebbie-hibbos.de/event/clubabend-fuer-das-ahrtal-mit-den-stoke-boat-promenaders/
LOCATION:Konrad-Widerholt-Halle\, Armbruststraße 30\, 73230 Kirchheim/Teck\, Deutschland
END:VEVENT
END:VCALENDAR