BEGIN:VCALENDAR
VERSION:2.0
PRODID:-//Häbbie Hibbos - ECPv6.15.20//NONSGML v1.0//EN
CALSCALE:GREGORIAN
METHOD:PUBLISH
X-ORIGINAL-URL:https://www.haebbie-hibbos.de
X-WR-CALDESC:Veranstaltungen für Häbbie Hibbos
REFRESH-INTERVAL;VALUE=DURATION:PT1H
X-Robots-Tag:noindex
X-PUBLISHED-TTL:PT1H
BEGIN:VTIMEZONE
TZID:Europe/Paris
BEGIN:DAYLIGHT
TZOFFSETFROM:+0100
TZOFFSETTO:+0200
TZNAME:CEST
DTSTART:20190331T010000
END:DAYLIGHT
BEGIN:STANDARD
TZOFFSETFROM:+0200
TZOFFSETTO:+0100
TZNAME:CET
DTSTART:20191027T010000
END:STANDARD
BEGIN:DAYLIGHT
TZOFFSETFROM:+0100
TZOFFSETTO:+0200
TZNAME:CEST
DTSTART:20200329T010000
END:DAYLIGHT
BEGIN:STANDARD
TZOFFSETFROM:+0200
TZOFFSETTO:+0100
TZNAME:CET
DTSTART:20201025T010000
END:STANDARD
BEGIN:DAYLIGHT
TZOFFSETFROM:+0100
TZOFFSETTO:+0200
TZNAME:CEST
DTSTART:20210328T010000
END:DAYLIGHT
BEGIN:STANDARD
TZOFFSETFROM:+0200
TZOFFSETTO:+0100
TZNAME:CET
DTSTART:20211031T010000
END:STANDARD
END:VTIMEZONE
BEGIN:VEVENT
DTSTART;TZID=Europe/Paris:20200614T180000
DTEND;TZID=Europe/Paris:20200614T200000
DTSTAMP:20260425T032118
CREATED:20191104T155416Z
LAST-MODIFIED:20200524T071659Z
UID:1930-1592157600-1592164800@www.haebbie-hibbos.de
SUMMARY:Clubabend entfällt
DESCRIPTION:
URL:https://www.haebbie-hibbos.de/event/clubabend-mit-marcus-runft-20/
LOCATION:Konrad-Widerholt-Halle\, Armbruststraße 30\, 73230 Kirchheim/Teck\, Deutschland
END:VEVENT
BEGIN:VEVENT
DTSTART;TZID=Europe/Paris:20200621T180000
DTEND;TZID=Europe/Paris:20200621T200000
DTSTAMP:20260425T032118
CREATED:20191104T153938Z
LAST-MODIFIED:20200524T071733Z
UID:1907-1592762400-1592769600@www.haebbie-hibbos.de
SUMMARY:Clubabend entfällt
DESCRIPTION:
URL:https://www.haebbie-hibbos.de/event/clubabend-mit-christian-reiff-16/
LOCATION:Konrad-Widerholt-Halle\, Armbruststraße 30\, 73230 Kirchheim/Teck\, Deutschland
END:VEVENT
BEGIN:VEVENT
DTSTART;TZID=Europe/Paris:20200628T180000
DTEND;TZID=Europe/Paris:20200628T200000
DTSTAMP:20260425T032118
CREATED:20191104T155505Z
LAST-MODIFIED:20200524T071803Z
UID:1932-1593367200-1593374400@www.haebbie-hibbos.de
SUMMARY:Clubabend entfällt
DESCRIPTION:
URL:https://www.haebbie-hibbos.de/event/clubabend-mit-marcus-runft-21/
LOCATION:Konrad-Widerholt-Halle\, Armbruststraße 30\, 73230 Kirchheim/Teck\, Deutschland
END:VEVENT
END:VCALENDAR