BEGIN:VCALENDAR
VERSION:2.0
PRODID:-//Häbbie Hibbos - ECPv6.15.20//NONSGML v1.0//EN
CALSCALE:GREGORIAN
METHOD:PUBLISH
X-WR-CALNAME:Häbbie Hibbos
X-ORIGINAL-URL:https://www.haebbie-hibbos.de
X-WR-CALDESC:Veranstaltungen für Häbbie Hibbos
REFRESH-INTERVAL;VALUE=DURATION:PT1H
X-Robots-Tag:noindex
X-PUBLISHED-TTL:PT1H
BEGIN:VTIMEZONE
TZID:Europe/Berlin
BEGIN:DAYLIGHT
TZOFFSETFROM:+0100
TZOFFSETTO:+0200
TZNAME:CEST
DTSTART:20250330T010000
END:DAYLIGHT
BEGIN:STANDARD
TZOFFSETFROM:+0200
TZOFFSETTO:+0100
TZNAME:CET
DTSTART:20251026T010000
END:STANDARD
BEGIN:DAYLIGHT
TZOFFSETFROM:+0100
TZOFFSETTO:+0200
TZNAME:CEST
DTSTART:20260329T010000
END:DAYLIGHT
BEGIN:STANDARD
TZOFFSETFROM:+0200
TZOFFSETTO:+0100
TZNAME:CET
DTSTART:20261025T010000
END:STANDARD
BEGIN:DAYLIGHT
TZOFFSETFROM:+0100
TZOFFSETTO:+0200
TZNAME:CEST
DTSTART:20270328T010000
END:DAYLIGHT
BEGIN:STANDARD
TZOFFSETFROM:+0200
TZOFFSETTO:+0100
TZNAME:CET
DTSTART:20271031T010000
END:STANDARD
END:VTIMEZONE
BEGIN:VEVENT
DTSTART;TZID=Europe/Berlin:20260424T200000
DTEND;TZID=Europe/Berlin:20260424T220000
DTSTAMP:20260423T224941
CREATED:20250517T195433Z
LAST-MODIFIED:20260422T165627Z
UID:3524-1777060800-1777068000@www.haebbie-hibbos.de
SUMMARY:Clubabend Teckies
DESCRIPTION:
URL:https://www.haebbie-hibbos.de/event/clubabend-teckies/
LOCATION:Kath. Gemeinde St. Lukas\, Schönbergstr. 23\, Kirchheim-Jesingen
END:VEVENT
BEGIN:VEVENT
DTSTART;TZID=Europe/Berlin:20260426T180000
DTEND;TZID=Europe/Berlin:20260426T200000
DTSTAMP:20260423T224941
CREATED:20250929T131211Z
LAST-MODIFIED:20260217T135204Z
UID:3777-1777226400-1777233600@www.haebbie-hibbos.de
SUMMARY:Clubabend Hibbos mit Melanie
DESCRIPTION:
URL:https://www.haebbie-hibbos.de/event/clubabend-teckis-mit-melanie-fischer-und-class/
LOCATION:Konrad-Widerholt-Halle\, Armbruststraße 30\, 73230 Kirchheim/Teck\, Deutschland
END:VEVENT
BEGIN:VEVENT
DTSTART;TZID=Europe/Berlin:20260503T170000
DTEND;TZID=Europe/Berlin:20260503T200000
DTSTAMP:20260423T224941
CREATED:20251229T142616Z
LAST-MODIFIED:20260419T072304Z
UID:3785-1777827600-1777838400@www.haebbie-hibbos.de
SUMMARY:Clubabend Hibbos mit Wuffi 17:00 bis 18:00 Uhr Plus18:00 bis 20:00 Uhr MS (mit Class)
DESCRIPTION:
URL:https://www.haebbie-hibbos.de/event/1615-1745-plus-workshop-mit-wuffi-1800-2000-clubabend-mit-wuffi-3/
LOCATION:Konrad-Widerholt-Halle\, Armbruststraße 30\, 73230 Kirchheim/Teck\, Deutschland
END:VEVENT
BEGIN:VEVENT
DTSTART;TZID=Europe/Berlin:20260508T200000
DTEND;TZID=Europe/Berlin:20260508T220000
DTSTAMP:20260423T224942
CREATED:20250929T122843Z
LAST-MODIFIED:20260422T165834Z
UID:3774-1778270400-1778277600@www.haebbie-hibbos.de
SUMMARY:Clubabend Teckies  Caller siehe Tanzplan Teckies
DESCRIPTION:https://www.teck-rovers.de/tanzplan/
URL:https://www.haebbie-hibbos.de/event/clubabend-teckies-caller-siehe-tanzplan-teckies/
LOCATION:Kath. Gemeinde St. Lukas\, Schönbergstr. 23\, Kirchheim-Jesingen
END:VEVENT
BEGIN:VEVENT
DTSTART;TZID=Europe/Berlin:20260514T130000
DTEND;TZID=Europe/Berlin:20260514T210000
DTSTAMP:20260423T224942
CREATED:20251125T141047Z
LAST-MODIFIED:20251125T141047Z
UID:3810-1778763600-1778792400@www.haebbie-hibbos.de
SUMMARY:HibboMania 2026
DESCRIPTION:
URL:https://www.haebbie-hibbos.de/event/hibbomania-2026/
LOCATION:Gießnauhalle Nabern\, Seestraße 7\, 73230 Kirchheim-Nabern\, 73230\, Deutschland
END:VEVENT
BEGIN:VEVENT
DTSTART;VALUE=DATE:20260517
DTEND;VALUE=DATE:20260518
DTSTAMP:20260423T224942
CREATED:20260419T072042Z
LAST-MODIFIED:20260419T072042Z
UID:3919-1778976000-1779062399@www.haebbie-hibbos.de
SUMMARY:Kein Clubabend
DESCRIPTION:
URL:https://www.haebbie-hibbos.de/event/kein-clubabend/
END:VEVENT
BEGIN:VEVENT
DTSTART;TZID=Europe/Berlin:20260522T200000
DTEND;TZID=Europe/Berlin:20260522T220000
DTSTAMP:20260423T224942
CREATED:20250828T060814Z
LAST-MODIFIED:20260419T073059Z
UID:3729-1779480000-1779487200@www.haebbie-hibbos.de
SUMMARY:Clubabend bei den Teck Rovers Caller siehe Tanzplan Teckies
DESCRIPTION:http://www.teck-rovers.de/tanzplanaktuell.pdf
URL:https://www.haebbie-hibbos.de/event/clubabend-bei-den-teck-rovers-caller-siehe-tanzplan-teckies/
LOCATION:Kath. Gemeinde St. Lukas\, Schönbergstr. 23\, Kirchheim-Jesingen
END:VEVENT
BEGIN:VEVENT
DTSTART;TZID=Europe/Berlin:20260529T200000
DTEND;TZID=Europe/Berlin:20260529T220000
DTSTAMP:20260423T224942
CREATED:20250924T044151Z
LAST-MODIFIED:20260419T073343Z
UID:3755-1780084800-1780092000@www.haebbie-hibbos.de
SUMMARY:Clubabend Teckies 5. Freitag Mit Melanie
DESCRIPTION:http://www.teck-rovers.de/tanzplanaktuell.pdf
URL:https://www.haebbie-hibbos.de/event/clubabend-teckies-5-freitag-mit-melanie/
LOCATION:Kath. Gemeinde St. Lukas\, Schönbergstr. 23\, Kirchheim-Jesingen
END:VEVENT
BEGIN:VEVENT
DTSTART;TZID=Europe/Berlin:20260531T170000
DTEND;TZID=Europe/Berlin:20260531T200000
DTSTAMP:20260423T224942
CREATED:20250614T143652Z
LAST-MODIFIED:20260419T071149Z
UID:3661-1780246800-1780257600@www.haebbie-hibbos.de
SUMMARY:Clubabend Hibbos mit Wuffi 17:00 bis 18:00 Uhr Plus18:00 bis 20:00 Uhr MS (mit Class)
DESCRIPTION:
URL:https://www.haebbie-hibbos.de/event/clubabend-hibbos-mit-christian-2/
LOCATION:Konrad-Widerholt-Halle\, Armbruststraße 30\, 73230 Kirchheim/Teck\, Deutschland
END:VEVENT
END:VCALENDAR